BEGIN:VCALENDAR
VERSION:2.0
PRODID:-//AudioTheme 2.3.4
BEGIN:VEVENT
UID:urn:uuid:4ac10c51-c62d-45d4-9817-049c2a7acfdb
URL:http://davidwas.thinkware.ch/shows/gig-566/
DTSTART;VALUE=DATE:20230323
SUMMARY:Bowie Stories - Ragtime
DESCRIPTION:We are back....Avec ce concert qui sera le début d'une série régulière jusqu'au début de l'été 2023. Venez écoutez Bowie Stories au Ragtime dans un cadre cosy et intime. Réservation conseillée.
LOCATION:RAG TIME\, Rue Etienne-Dumont 18\, Genève\, \, Switzerland\, 1204
END:VEVENT
END:VCALENDAR
